BEGIN:VCALENDAR
VERSION:2.0
PRODID:-//Plone.org//NONSGML plone.app.event//EN
X-WR-TIMEZONE:Europe/Warsaw
BEGIN:VEVENT
SUMMARY:Święto Światła w Lublinie
DTSTART;TZID=Europe/Warsaw;VALUE=DATE-TIME:20221216T190000
DTSTAMP;VALUE=DATE-TIME:20250929T181103Z
UID:b099319082f645ba94a48ae0bb42aa5d
CONTACT:510 720 855
CREATED;VALUE=DATE-TIME:20221203T154321Z
DESCRIPTION:Przesilenie zimowe to moment gdy ludzkość zmierza do nowego 
 okresu. To okres w którym w różnych tradycjach obchodzone jest Święto
  Światła. Święto to ma związek z przesileniem zimowym\, kiedy to po o
 kresie coraz krótszych dni Słońce zaczyna powoli wznosić się na horyz
 oncie ku górze i z każdym dniem wzmacnia swe światło. Od 25.XII zaczyn
 a go przybywać codziennie o 1 stopień wyżej\, zwiastując przebudzenie 
 natury do życia.
LAST-MODIFIED;VALUE=DATE-TIME:20221203T155623Z
LOCATION:Lublin\, Plac po Farze 6\, lokal FaraRaRa
URL:http://www.amorc.pl/zakon-w-polsce/swieto-swiatla-w-lublinie
END:VEVENT
BEGIN:VTIMEZONE
TZID:Europe/Warsaw
X-LIC-LOCATION:Europe/Warsaw
BEGIN:STANDARD
DTSTART;VALUE=DATE-TIME:20221030T020000
TZNAME:CET
TZOFFSETFROM:+0200
TZOFFSETTO:+0100
END:STANDARD
END:VTIMEZONE
END:VCALENDAR
